BEGIN:VCALENDAR
VERSION:2.0
PRODID:-//Library Market//iCal Export//EN
BEGIN:VEVENT
SUMMARY:Minecraft - Gingerbread Village
UID:185449
DTSTAMP:20260423T224700Z
DTSTART:20261208T230000Z
DTEND:20261209T003000Z
LOCATION:150 Holbrook Road, Holbrook, NY 11741, United States
ROOM: desTEENation
DESCRIPTION:Search the Gingerbread Mansion for hidden spots in a holiday h
 ide‑and‑seek game, then design your own gingerbread house with candy a
 nd icing decorations.
URL:https://sachem.librarycalendar.com/event/minecraft-gingerbread-village
 -185449
END:VEVENT
END:VCALENDAR
