BEGIN:VCALENDAR
VERSION:2.0
PRODID:-//Library Market//iCal Export//EN
BEGIN:VEVENT
SUMMARY:Sushi Go
UID:185445
DTSTAMP:20260425T191200Z
DTSTART:20260714T200000Z
DTEND:20260714T210000Z
LOCATION:150 Holbrook Road, Holbrook, NY 11741, United States
ROOM: desTEENation
DESCRIPTION:Attempt to make the best Sushi dishes to serve your patrons an
 d become the best sushi restaurant in town!Hosted by Sachem Teen Leaders.
URL:https://sachem.librarycalendar.com/event/tabletop-gaming-sushi-go-1854
 45
END:VEVENT
END:VCALENDAR
