BEGIN:VCALENDAR
VERSION:2.0
PRODID:-//Library Market//iCal Export//EN
BEGIN:VEVENT
SUMMARY:SAT Workshop
UID:185257
DTSTAMP:20260423T224700Z
DTSTART:20260923T223000Z
DTEND:20260924T010000Z
LOCATION:150 Holbrook Road, Holbrook, NY 11741, United States
ROOM: Community Room C
DESCRIPTION:Prepare for the upcoming Digital SAT exams with qualified Math
 ematics and English instructors. Fee includes The College Board Official D
 igital SAT Study Guide 2nd Edition. Pencil and calculator needed for class
 .
URL:https://sachem.librarycalendar.com/event/sat-workshop-185257
END:VEVENT
END:VCALENDAR
