BEGIN:VCALENDAR
VERSION:2.0
PRODID:-//Library Market//iCal Export//EN
BEGIN:VEVENT
SUMMARY:Summer Dreamcatcher
UID:185075
DTSTAMP:20260423T224700Z
DTSTART:20260710T040000Z
DTEND:20260710T040000Z
LOCATION:Sachem Public Library, 150 Holbrook Road, Holbrook, NY 11741, Uni
 ted States
ROOM: other
DESCRIPTION:Create a colorful summer themed dreamcatcher! Registrants can
  pick up a supply kit beginning Wednesday, July 8.   
URL:https://sachem.librarycalendar.com/event/summer-dreamcatcher-185075
END:VEVENT
END:VCALENDAR
