BEGIN:VCALENDAR
VERSION:2.0
PRODID:-//Library Market//iCal Export//EN
BEGIN:VEVENT
SUMMARY:Study with a Dog
UID:185027
DTSTAMP:20260424T023200Z
DTSTART:20260514T213000Z
DTEND:20260514T221500Z
LOCATION:150 Holbrook Road, Holbrook, NY 11741, United States
ROOM: desTEENation
DESCRIPTION:Study and de-stress with a certified therapy dog.No registrati
 on required.
URL:https://sachem.librarycalendar.com/event/study-dog-185027
END:VEVENT
END:VCALENDAR
