BEGIN:VCALENDAR
VERSION:2.0
PRODID:-//Library Market//iCal Export//EN
BEGIN:VEVENT
SUMMARY:Study with a Dog
UID:185026
DTSTAMP:20260421T204800Z
DTSTART:20260430T213000Z
DTEND:20260430T221500Z
LOCATION:150 Holbrook Road, Holbrook, NY 11741, United States
ROOM: desTEENation
DESCRIPTION:Study and de-stress with a certified therapy dog.No registrati
 on required.
URL:https://sachem.librarycalendar.com/event/study-dog-185026
END:VEVENT
END:VCALENDAR
